BEGIN:VCALENDAR
VERSION:2.0
PRODID:-//Reno Tango Collective - ECPv6.15.10//NONSGML v1.0//EN
CALSCALE:GREGORIAN
METHOD:PUBLISH
X-WR-CALNAME:Reno Tango Collective
X-ORIGINAL-URL:https://renotangocollective.com
X-WR-CALDESC:Events for Reno Tango Collective
REFRESH-INTERVAL;VALUE=DURATION:PT1H
X-Robots-Tag:noindex
X-PUBLISHED-TTL:PT1H
BEGIN:VTIMEZONE
TZID:UTC
BEGIN:STANDARD
TZOFFSETFROM:+0000
TZOFFSETTO:+0000
TZNAME:UTC
DTSTART:20180101T000000
END:STANDARD
END:VTIMEZONE
BEGIN:VEVENT
DTSTART;TZID=UTC:20190721T180000
DTEND;TZID=UTC:20190721T220000
DTSTAMP:20260423T184046
CREATED:20190604T182448Z
LAST-MODIFIED:20190604T194617Z
UID:419-1563732000-1563746400@renotangocollective.com
SUMMARY:Summer Tango Evenings by the River
DESCRIPTION:This summer every Sunday of July at 6pm we will be hosting Tango lessons followed by social dance milonga at McKinley Art & Culture Center. This event is part of Reno Artown and is generously sponsored by the City of Reno. \nLearn more here: https://artown.org/event-details.asp?ID=3941
URL:https://renotangocollective.com/event/summer-tango-evenings-by-the-river-2-2/
LOCATION:McKinley Arts & Culture Center auditorium\, 925 Riverside Dr\, Reno\, NV\, 89503\, United States
ATTACH;FMTTYPE=image/jpeg:https://renotangocollective.com/wp-content/uploads/2019/06/Ilustración_sin_título.jpg
END:VEVENT
BEGIN:VEVENT
DTSTART;TZID=UTC:20190714T180000
DTEND;TZID=UTC:20190714T220000
DTSTAMP:20260423T184046
CREATED:20190604T182424Z
LAST-MODIFIED:20190604T194647Z
UID:417-1563127200-1563141600@renotangocollective.com
SUMMARY:Summer Tango Evenings by the River
DESCRIPTION:This summer every Sunday of July at 6pm we will be hosting Tango lessons followed by social dance milonga at McKinley Art & Culture Center. This event is part of Reno Artown and is generously sponsored by the City of Reno. \nLearn more here: https://artown.org/event-details.asp?ID=3941
URL:https://renotangocollective.com/event/summer-tango-evenings-by-the-river-2/
LOCATION:McKinley Arts & Culture Center auditorium\, 925 Riverside Dr\, Reno\, NV\, 89503\, United States
ATTACH;FMTTYPE=image/jpeg:https://renotangocollective.com/wp-content/uploads/2019/06/Ilustración_sin_título.jpg
END:VEVENT
BEGIN:VEVENT
DTSTART;TZID=UTC:20190707T180000
DTEND;TZID=UTC:20190707T220000
DTSTAMP:20260423T184046
CREATED:20190604T175734Z
LAST-MODIFIED:20190604T194718Z
UID:386-1562522400-1562536800@renotangocollective.com
SUMMARY:Summer Tango Evenings by the River
DESCRIPTION:This summer every Sunday of July at 6pm we will be hosting Tango lessons followed by social dance milonga at McKinley Art & Culture Center. This event is part of Reno Artown and is generously sponsored by the City of Reno. \nLearn more here: https://artown.org/event-details.asp?ID=3941
URL:https://renotangocollective.com/event/summer-tango-evenings-by-the-river/
LOCATION:McKinley Arts & Culture Center auditorium\, 925 Riverside Dr\, Reno\, NV\, 89503\, United States
ATTACH;FMTTYPE=image/jpeg:https://renotangocollective.com/wp-content/uploads/2019/06/Ilustración_sin_título.jpg
END:VEVENT
BEGIN:VEVENT
DTSTART;TZID=UTC:20190607T183000
DTEND;TZID=UTC:20190607T210000
DTSTAMP:20260423T184046
CREATED:20190604T181734Z
LAST-MODIFIED:20190604T183109Z
UID:393-1559932200-1559941200@renotangocollective.com
SUMMARY:Tango at Craft
DESCRIPTION:Come join us for our classic Tango at Craft! \n$5 donation suggested. \n \n 
URL:https://renotangocollective.com/event/tango-at-craft/
LOCATION:Craft Wine & Beer\, 22 Martin St.\, Reno\, NV\, 89509\, United States
END:VEVENT
END:VCALENDAR